BEGIN:VCALENDAR
VERSION:2.0
PRODID:-//Plone.org//NONSGML plone.app.event//EN
X-WR-TIMEZONE:Europe/Madrid
BEGIN:VEVENT
SUMMARY:Esdeveniment de mostra 1
DTSTART;TZID=Europe/Madrid:20211125T090000
DTEND;TZID=Europe/Madrid:20611115T090000
DTSTAMP:20260420T000500Z
UID:152d7a0afb5f4b98b6ab892ddbe4396e@cyrcle.upc.edu
CONTACT:Responsable esdeveniment\, adreca@noreply.com
CREATED:20211125T081044Z
LAST-MODIFIED:20211125T081044Z
LOCATION:Lloc de l'esdeveniment
URL:https://cyrcle.upc.edu/ca/esdeveniments/esdeveniment-de-mostra-1
END:VEVENT
BEGIN:VEVENT
SUMMARY:Esdeveniment de mostra 2
DTSTART;TZID=Europe/Madrid:20211125T090000
DTEND;TZID=Europe/Madrid:20611115T090000
DTSTAMP:20260420T000500Z
UID:373dda2996e740c8936a70fd14ea3620@cyrcle.upc.edu
CONTACT:Responsable esdeveniment\, adreca@noreply.com
CREATED:20211125T081044Z
LAST-MODIFIED:20211125T081044Z
LOCATION:Lloc de l'esdeveniment
URL:https://cyrcle.upc.edu/ca/esdeveniments/esdeveniment-de-mostra-2
END:VEVENT
BEGIN:VEVENT
SUMMARY:Esdeveniment de mostra 3
DTSTART;TZID=Europe/Madrid:20211125T090000
DTEND;TZID=Europe/Madrid:20611115T090000
DTSTAMP:20260420T000500Z
UID:8aa91a1fabdc401aa8a59d9ceb3beb32@cyrcle.upc.edu
CONTACT:Responsable esdeveniment\, adreca@noreply.com
CREATED:20211125T081044Z
LAST-MODIFIED:20211125T081045Z
LOCATION:Lloc de l'esdeveniment
URL:https://cyrcle.upc.edu/ca/esdeveniments/esdeveniment-de-mostra-3
END:VEVENT
BEGIN:VEVENT
SUMMARY:Esdeveniment de mostra 4
DTSTART;TZID=Europe/Madrid:20211125T090000
DTEND;TZID=Europe/Madrid:20611115T090000
DTSTAMP:20260420T000500Z
UID:e492af72d6c54608a73714967f25c79b@cyrcle.upc.edu
CONTACT:Responsable esdeveniment\, adreca@noreply.com
CREATED:20211125T081045Z
LAST-MODIFIED:20211125T081045Z
LOCATION:Lloc de l'esdeveniment
URL:https://cyrcle.upc.edu/ca/esdeveniments/esdeveniment-de-mostra-4
END:VEVENT
BEGIN:VTIMEZONE
TZID:Europe/Madrid
X-LIC-LOCATION:Europe/Madrid
BEGIN:STANDARD
DTSTART:20211031T020000
TZNAME:CET
TZOFFSETFROM:+0200
TZOFFSETTO:+0100
END:STANDARD
BEGIN:STANDARD
DTSTART:20371025T020000
TZNAME:CET
TZOFFSETFROM:+0200
TZOFFSETTO:+0100
END:STANDARD
END:VTIMEZONE
END:VCALENDAR
